BEGIN:VCALENDAR
VERSION:2.0
CALSCALE:GREGORIAN
PRODID:iCalendar from L'Oréal FINANCE
BEGIN:VEVENT
UID:sabre-vobject-33938fa1-91d7-4e7d-9810-ae831773aca2
DTSTAMP:20260419T210502Z
DESCRIPTION:
LOCATION:
URL;VALUE=URI:
SUMMARY: L'Oréal : First Quarter 2026 Sales (after market)
DTSTART:20260422T160000Z
DTEND:20260422T173000Z
END:VEVENT
END:VCALENDAR
