BEGIN:VCALENDAR
VERSION:2.0
CALSCALE:GREGORIAN
PRODID:iCalendar from L'Oréal FINANCE
BEGIN:VEVENT
UID:sabre-vobject-5b023cfa-ebda-4f1c-a826-9719ce71f2d8
DTSTAMP:20260419T205548Z
DESCRIPTION:
LOCATION:
URL;VALUE=URI:
SUMMARY: L'Oréal : 2026 Annual General Meeting
DTSTART:20260424T080000Z
DTEND:20260424T100000Z
END:VEVENT
END:VCALENDAR
