BEGIN:VCALENDAR
VERSION:2.0
CALSCALE:GREGORIAN
PRODID:iCalendar from L'Oréal FINANCE
BEGIN:VEVENT
UID:sabre-vobject-c6f28f6d-a29e-4c4b-9a10-0c8c2bdf2a92
DTSTAMP:20260419T205742Z
DESCRIPTION:
LOCATION:
URL;VALUE=URI:
SUMMARY: L'Oréal : 2026 Half-Year Results (after market)
DTSTART:20260729T160000Z
DTEND:20260729T170000Z
END:VEVENT
END:VCALENDAR
