BEGIN:VCALENDAR
VERSION:2.0
CALSCALE:GREGORIAN
PRODID:iCalendar from L'Oréal FINANCE
BEGIN:VEVENT
UID:sabre-vobject-54f52b8d-a37a-4e7b-8863-998948b02797
DTSTAMP:20260419T205439Z
DESCRIPTION:
LOCATION:
URL;VALUE=URI:
SUMMARY: L'Oréal : 2026 Half-Year Results
DTSTART:20260730T070000Z
DTEND:20260730T083000Z
END:VEVENT
END:VCALENDAR
