BEGIN:VCALENDAR
VERSION:2.0
CALSCALE:GREGORIAN
PRODID:iCalendar from L'Oréal FINANCE
BEGIN:VEVENT
UID:sabre-vobject-e8f7f117-0326-4104-b3d0-0ed16491bca1
DTSTAMP:20260419T210159Z
DESCRIPTION:
LOCATION:
URL;VALUE=URI:
SUMMARY: L'Oréal : Sales at September 30- 2026 (after market)
DTSTART:20261022T160000Z
DTEND:20261022T173000Z
END:VEVENT
END:VCALENDAR
