BEGIN:VCALENDAR
VERSION:2.0
CALSCALE:GREGORIAN
PRODID:iCalendar from L'Oréal FINANCE
BEGIN:VEVENT
UID:sabre-vobject-f370c20e-409f-47ed-bb96-ed6b5aa88016
DTSTAMP:20260421T091143Z
DESCRIPTION:
LOCATION:
URL;VALUE=URI:
SUMMARY: L'Oréal : Assemblée Générale 2026
DTSTART:20260424T080000Z
DTEND:20260424T100000Z
END:VEVENT
END:VCALENDAR
