BEGIN:VCALENDAR
VERSION:2.0
CALSCALE:GREGORIAN
PRODID:iCalendar from L'Oréal FINANCE
BEGIN:VEVENT
UID:sabre-vobject-31f042f4-1c1f-4448-b8de-2cac12b20783
DTSTAMP:20260421T091100Z
DESCRIPTION:
LOCATION:
URL;VALUE=URI:
SUMMARY: L'Oréal : Résultats Semestriels 2026 (après Bourse)
DTSTART:20260729T160000Z
DTEND:20260729T170000Z
END:VEVENT
END:VCALENDAR
