BEGIN:VCALENDAR
VERSION:2.0
CALSCALE:GREGORIAN
PRODID:iCalendar from L'Oréal FINANCE
BEGIN:VEVENT
UID:sabre-vobject-bc9be837-9133-4892-a15f-e81577e475c3
DTSTAMP:20260421T091507Z
DESCRIPTION:
LOCATION:
URL;VALUE=URI:
SUMMARY: L'Oréal : Résultats Semestriels 2026
DTSTART:20260730T070000Z
DTEND:20260730T083000Z
END:VEVENT
END:VCALENDAR
