BEGIN:VCALENDAR
VERSION:2.0
CALSCALE:GREGORIAN
PRODID:iCalendar from L'Oréal FINANCE
BEGIN:VEVENT
UID:sabre-vobject-cd993737-c21d-4ad6-9733-5e12a394bb4f
DTSTAMP:20260421T090707Z
DESCRIPTION:
LOCATION:
URL;VALUE=URI:
SUMMARY: L'Oréal : Chiffre d’affaires au 30 septembre 2026 (après Bours
 e)
DTSTART:20261022T160000Z
DTEND:20261022T173000Z
END:VEVENT
END:VCALENDAR
